Package: plgem Version: 1.76.0 Command: E:\biocbuild\bbs-3.19-bioc\R\bin\R.exe CMD check --no-multiarch --install=check:plgem.install-out.txt --library=E:\biocbuild\bbs-3.19-bioc\R\library --no-vignettes --timings plgem_1.76.0.tar.gz StartedAt: 2024-10-17 04:30:49 -0400 (Thu, 17 Oct 2024) EndedAt: 2024-10-17 04:31:57 -0400 (Thu, 17 Oct 2024) EllapsedTime: 68.1 seconds RetCode: 0 Status: OK CheckDir: plgem.Rcheck Warnings: 0