Package: plgem Version: 1.76.0 Command: rm -rf plgem.buildbin-libdir && mkdir plgem.buildbin-libdir && E:\biocbuild\bbs-3.19-bioc\R\bin\R.exe CMD INSTALL --build --library=plgem.buildbin-libdir plgem_1.76.0.tar.gz StartedAt: 2024-10-17 08:21:47 -0400 (Thu, 17 Oct 2024) EndedAt: 2024-10-17 08:22:00 -0400 (Thu, 17 Oct 2024) EllapsedTime: 12.4 seconds RetCode: 0 Status: OK PackageFile: plgem_1.76.0.zip PackageFileSize: 1006 KiB