Package: plgem Version: 1.76.0 Command: rm -rf plgem.buildbin-libdir && mkdir plgem.buildbin-libdir && /Users/biocbuild/BBS/utils/build-universal.sh plgem_1.76.0.tar.gz /Library/Frameworks/R.framework/Resources/bin/R plgem.buildbin-libdir StartedAt: 2024-10-17 16:51:08 -0400 (Thu, 17 Oct 2024) EndedAt: 2024-10-17 16:51:18 -0400 (Thu, 17 Oct 2024) EllapsedTime: 9.5 seconds RetCode: 0 Status: OK PackageFile: plgem_1.76.0.tgz PackageFileSize: 1.115 MiB