Package: plgem Version: 1.76.0 Command: /Library/Frameworks/R.framework/Resources/bin/R CMD build --keep-empty-dirs --no-resave-data plgem StartedAt: 2024-10-17 06:31:02 -0400 (Thu, 17 Oct 2024) EndedAt: 2024-10-17 06:31:24 -0400 (Thu, 17 Oct 2024) EllapsedTime: 22.7 seconds RetCode: 0 Status: OK PackageFile: plgem_1.76.0.tar.gz PackageFileSize: 1.037 MiB