Package: plasmut Version: 1.2.0 Command: E:\biocbuild\bbs-3.19-bioc\R\bin\R.exe CMD check --no-multiarch --install=check:plasmut.install-out.txt --library=E:\biocbuild\bbs-3.19-bioc\R\library --no-vignettes --timings plasmut_1.2.0.tar.gz StartedAt: 2024-10-17 04:30:32 -0400 (Thu, 17 Oct 2024) EndedAt: 2024-10-17 04:31:17 -0400 (Thu, 17 Oct 2024) EllapsedTime: 45.4 seconds RetCode: 0 Status: OK CheckDir: plasmut.Rcheck Warnings: 0