Package: plasmut Version: 1.2.0 Command: chmod a+r plasmut -R && E:\biocbuild\bbs-3.19-bioc\R\bin\R.exe CMD build --keep-empty-dirs --no-resave-data plasmut StartedAt: 2024-10-16 21:08:20 -0400 (Wed, 16 Oct 2024) EndedAt: 2024-10-16 21:11:54 -0400 (Wed, 16 Oct 2024) EllapsedTime: 214.4 seconds RetCode: 0 Status: OK PackageFile: plasmut_1.2.0.tar.gz PackageFileSize: 273.5 KiB