Package: plasmut Version: 1.2.0 Command: F:\biocbuild\bbs-3.19-bioc\R\bin\R.exe CMD check --no-multiarch --install=check:plasmut.install-out.txt --library=F:\biocbuild\bbs-3.19-bioc\R\library --no-vignettes --timings plasmut_1.2.0.tar.gz StartedAt: 2024-06-27 04:47:11 -0400 (Thu, 27 Jun 2024) EndedAt: 2024-06-27 04:47:53 -0400 (Thu, 27 Jun 2024) EllapsedTime: 42.1 seconds RetCode: 0 Status: OK CheckDir: plasmut.Rcheck Warnings: 0