Package: plasmut Version: 1.2.0 Command: rm -rf plasmut.buildbin-libdir && mkdir plasmut.buildbin-libdir && /Users/biocbuild/BBS/utils/build-universal.sh plasmut_1.2.0.tar.gz /Library/Frameworks/R.framework/Resources/bin/R plasmut.buildbin-libdir StartedAt: 2024-10-17 16:51:07 -0400 (Thu, 17 Oct 2024) EndedAt: 2024-10-17 16:51:17 -0400 (Thu, 17 Oct 2024) EllapsedTime: 9.5 seconds RetCode: 0 Status: OK PackageFile: plasmut_1.2.0.tgz PackageFileSize: 355.5 KiB