Package: plasmut Version: 1.2.0 Command: /home/biocbuild/R/R-beta-2024-04-15_r86425/bin/R CMD check --install=check:plasmut.install-out.txt --library=/home/biocbuild/R/R-beta-2024-04-15_r86425/site-library --no-vignettes --timings plasmut_1.2.0.tar.gz StartedAt: 2024-05-09 10:35:25 -0000 (Thu, 09 May 2024) EndedAt: 2024-05-09 10:35:56 -0000 (Thu, 09 May 2024) EllapsedTime: 31.0 seconds RetCode: 0 Status: OK CheckDir: plasmut.Rcheck Warnings: 0