Package: planttfhunter Version: 1.4.0 Command: chmod a+r planttfhunter -R && E:\biocbuild\bbs-3.19-bioc\R\bin\R.exe CMD build --keep-empty-dirs --no-resave-data planttfhunter StartedAt: 2024-10-16 21:08:17 -0400 (Wed, 16 Oct 2024) EndedAt: 2024-10-16 21:09:00 -0400 (Wed, 16 Oct 2024) EllapsedTime: 43.0 seconds RetCode: 0 Status: OK PackageFile: planttfhunter_1.4.0.tar.gz PackageFileSize: 991.7 KiB