Package: planttfhunter Version: 1.4.0 Command: rm -rf planttfhunter.buildbin-libdir && mkdir planttfhunter.buildbin-libdir && E:\biocbuild\bbs-3.19-bioc\R\bin\R.exe CMD INSTALL --build --library=planttfhunter.buildbin-libdir planttfhunter_1.4.0.tar.gz StartedAt: 2024-10-17 08:21:44 -0400 (Thu, 17 Oct 2024) EndedAt: 2024-10-17 08:22:25 -0400 (Thu, 17 Oct 2024) EllapsedTime: 41.0 seconds RetCode: 0 Status: OK PackageFile: planttfhunter_1.4.0.zip PackageFileSize: 1019 KiB