Package: planttfhunter Version: 1.4.0 Command: /home/biocbuild/bbs-3.19-bioc/R/bin/R CMD check --install=check:planttfhunter.install-out.txt --library=/home/biocbuild/bbs-3.19-bioc/R/site-library --timings planttfhunter_1.4.0.tar.gz StartedAt: 2024-10-17 03:47:57 -0400 (Thu, 17 Oct 2024) EndedAt: 2024-10-17 03:50:47 -0400 (Thu, 17 Oct 2024) EllapsedTime: 170.4 seconds RetCode: 0 Status: OK CheckDir: planttfhunter.Rcheck Warnings: 0