Package: planttfhunter Version: 1.4.0 Command: rm -rf planttfhunter.buildbin-libdir && mkdir planttfhunter.buildbin-libdir && /Users/biocbuild/BBS/utils/build-universal.sh planttfhunter_1.4.0.tar.gz /Library/Frameworks/R.framework/Resources/bin/R planttfhunter.buildbin-libdir StartedAt: 2024-10-17 16:51:01 -0400 (Thu, 17 Oct 2024) EndedAt: 2024-10-17 16:52:00 -0400 (Thu, 17 Oct 2024) EllapsedTime: 59.3 seconds RetCode: 0 Status: OK PackageFile: planttfhunter_1.4.0.tgz PackageFileSize: 1.002 MiB