Package: planttfhunter Version: 1.4.0 Command: /Library/Frameworks/R.framework/Resources/bin/R CMD check --install=check:planttfhunter.install-out.txt --library=/Library/Frameworks/R.framework/Resources/library --no-vignettes --timings planttfhunter_1.4.0.tar.gz StartedAt: 2024-10-18 07:35:19 -0400 (Fri, 18 Oct 2024) EndedAt: 2024-10-18 07:38:40 -0400 (Fri, 18 Oct 2024) EllapsedTime: 200.5 seconds RetCode: 0 Status: OK CheckDir: planttfhunter.Rcheck Warnings: 0