Package: planttfhunter Version: 1.4.0 Command: /Library/Frameworks/R.framework/Resources/bin/R CMD build --keep-empty-dirs --no-resave-data planttfhunter StartedAt: 2024-10-17 06:30:18 -0400 (Thu, 17 Oct 2024) EndedAt: 2024-10-17 06:31:02 -0400 (Thu, 17 Oct 2024) EllapsedTime: 43.9 seconds RetCode: 0 Status: OK PackageFile: planttfhunter_1.4.0.tar.gz PackageFileSize: 991.7 KiB