Package: planet Version: 1.12.0 Command: E:\biocbuild\bbs-3.19-bioc\R\bin\R.exe CMD INSTALL planet StartedAt: 2024-10-16 16:03:59 -0400 (Wed, 16 Oct 2024) EndedAt: 2024-10-16 16:04:09 -0400 (Wed, 16 Oct 2024) EllapsedTime: 10.1 seconds RetCode: 0 Status: OK