Package: planet Version: 1.12.0 Command: /Library/Frameworks/R.framework/Resources/bin/R CMD build --keep-empty-dirs --no-resave-data planet StartedAt: 2024-10-16 22:07:23 -0400 (Wed, 16 Oct 2024) EndedAt: 2024-10-16 22:08:47 -0400 (Wed, 16 Oct 2024) EllapsedTime: 84.3 seconds RetCode: 0 Status: OK PackageFile: planet_1.12.0.tar.gz PackageFileSize: 2.791 MiB