Package: planet Version: 1.12.0 Command: /Library/Frameworks/R.framework/Resources/bin/R CMD INSTALL planet StartedAt: 2024-06-09 15:07:56 -0400 (Sun, 09 Jun 2024) EndedAt: 2024-06-09 15:08:01 -0400 (Sun, 09 Jun 2024) EllapsedTime: 4.8 seconds RetCode: 0 Status: OK