Package: planet Version: 1.12.0 Command: rm -rf planet.buildbin-libdir && mkdir planet.buildbin-libdir && /Users/biocbuild/BBS/utils/build-universal.sh planet_1.12.0.tar.gz /Library/Frameworks/R.framework/Resources/bin/R planet.buildbin-libdir StartedAt: 2024-06-11 12:32:03 -0400 (Tue, 11 Jun 2024) EndedAt: 2024-06-11 12:32:12 -0400 (Tue, 11 Jun 2024) EllapsedTime: 8.9 seconds RetCode: 0 Status: OK PackageFile: planet_1.12.0.tgz PackageFileSize: 2.825 MiB