Package: pipeFrame Version: 1.20.0 Command: /Library/Frameworks/R.framework/Resources/bin/R CMD INSTALL pipeFrame StartedAt: 2024-10-16 17:10:41 -0400 (Wed, 16 Oct 2024) EndedAt: 2024-10-16 17:11:21 -0400 (Wed, 16 Oct 2024) EllapsedTime: 39.9 seconds RetCode: 0 Status: OK