Package: pipeComp Version: 1.14.0 Command: E:\biocbuild\bbs-3.19-bioc\R\bin\R.exe CMD INSTALL pipeComp StartedAt: 2024-10-16 17:14:18 -0400 (Wed, 16 Oct 2024) EndedAt: 2024-10-16 17:15:44 -0400 (Wed, 16 Oct 2024) EllapsedTime: 85.4 seconds RetCode: 0 Status: OK