Package: pipeComp Version: 1.14.0 Command: /home/biocbuild/bbs-3.19-bioc/R/bin/R CMD build --keep-empty-dirs --no-resave-data pipeComp StartedAt: 2024-10-16 20:08:55 -0400 (Wed, 16 Oct 2024) EndedAt: 2024-10-16 20:10:37 -0400 (Wed, 16 Oct 2024) EllapsedTime: 102.2 seconds RetCode: 0 Status: OK PackageFile: pipeComp_1.14.0.tar.gz PackageFileSize: 3.549 MiB