Package: pipeComp Version: 1.14.0 Command: /Library/Frameworks/R.framework/Resources/bin/R CMD check --install=check:pipeComp.install-out.txt --library=/Library/Frameworks/R.framework/Resources/library --no-vignettes --timings pipeComp_1.14.0.tar.gz StartedAt: 2024-10-17 10:53:27 -0400 (Thu, 17 Oct 2024) EndedAt: 2024-10-17 11:08:48 -0400 (Thu, 17 Oct 2024) EllapsedTime: 921.0 seconds RetCode: 0 Status: OK CheckDir: pipeComp.Rcheck Warnings: 0