Package: pipeComp Version: 1.14.0 Command: /Library/Frameworks/R.framework/Resources/bin/R CMD build --keep-empty-dirs --no-resave-data pipeComp StartedAt: 2024-10-16 22:06:44 -0400 (Wed, 16 Oct 2024) EndedAt: 2024-10-16 22:11:39 -0400 (Wed, 16 Oct 2024) EllapsedTime: 295.0 seconds RetCode: 0 Status: OK PackageFile: pipeComp_1.14.0.tar.gz PackageFileSize: 4.005 MiB