Package: pipeComp Version: 1.14.0 Command: /Library/Frameworks/R.framework/Resources/bin/R CMD build --keep-empty-dirs --no-resave-data pipeComp StartedAt: 2024-10-17 06:29:06 -0400 (Thu, 17 Oct 2024) EndedAt: 2024-10-17 06:31:20 -0400 (Thu, 17 Oct 2024) EllapsedTime: 133.9 seconds RetCode: 0 Status: OK PackageFile: pipeComp_1.14.0.tar.gz PackageFileSize: 4.006 MiB