Package: pipeComp Version: 1.14.0 Command: rm -rf pipeComp.buildbin-libdir && mkdir pipeComp.buildbin-libdir && /Users/biocbuild/BBS/utils/build-universal.sh pipeComp_1.14.0.tar.gz /Library/Frameworks/R.framework/Resources/bin/R pipeComp.buildbin-libdir StartedAt: 2024-10-18 19:57:30 -0400 (Fri, 18 Oct 2024) EndedAt: 2024-10-18 19:58:59 -0400 (Fri, 18 Oct 2024) EllapsedTime: 89.1 seconds RetCode: 0 Status: OK PackageFile: pipeComp_1.14.0.tgz PackageFileSize: 4.509 MiB