Package: pipeComp Version: 1.14.0 Maintainer: Pierre-Luc Germain MaintainerEmail: pierre-luc.germain at hest.ethz.ch git_url: https://git.bioconductor.org/packages/pipeComp git_branch: RELEASE_3_19 git_last_commit: ca9f09f git_last_commit_date: 2024-04-30 11:25:00 -0400 (Tue, 30 Apr 2024)