Package: pickgene Version: 1.76.0 Command: chmod a+r pickgene -R && E:\biocbuild\bbs-3.19-bioc\R\bin\R.exe CMD build --keep-empty-dirs --no-resave-data pickgene StartedAt: 2024-10-16 21:07:09 -0400 (Wed, 16 Oct 2024) EndedAt: 2024-10-16 21:07:27 -0400 (Wed, 16 Oct 2024) EllapsedTime: 18.0 seconds RetCode: 0 Status: OK PackageFile: pickgene_1.76.0.tar.gz PackageFileSize: 196.4 KiB