Package: pickgene Version: 1.76.0 Command: rm -rf pickgene.buildbin-libdir && mkdir pickgene.buildbin-libdir && E:\biocbuild\bbs-3.19-bioc\R\bin\R.exe CMD INSTALL --build --library=pickgene.buildbin-libdir pickgene_1.76.0.tar.gz StartedAt: 2024-10-17 08:21:09 -0400 (Thu, 17 Oct 2024) EndedAt: 2024-10-17 08:21:22 -0400 (Thu, 17 Oct 2024) EllapsedTime: 13.5 seconds RetCode: 0 Status: OK PackageFile: pickgene_1.76.0.zip PackageFileSize: 293.5 KiB