Package: pickgene Version: 1.76.0 Command: rm -rf pickgene.buildbin-libdir && mkdir pickgene.buildbin-libdir && F:\biocbuild\bbs-3.19-bioc\R\bin\R.exe CMD INSTALL --build --library=pickgene.buildbin-libdir pickgene_1.76.0.tar.gz StartedAt: 2024-06-27 08:40:34 -0400 (Thu, 27 Jun 2024) EndedAt: 2024-06-27 08:40:55 -0400 (Thu, 27 Jun 2024) EllapsedTime: 21.4 seconds RetCode: 0 Status: OK PackageFile: pickgene_1.76.0.zip PackageFileSize: 293.4 KiB