Package: pickgene Version: 1.76.0 Command: /home/biocbuild/bbs-3.19-bioc/R/bin/R CMD INSTALL pickgene StartedAt: 2024-10-16 15:49:59 -0400 (Wed, 16 Oct 2024) EndedAt: 2024-10-16 15:50:07 -0400 (Wed, 16 Oct 2024) EllapsedTime: 8.0 seconds RetCode: 0 Status: OK