Package: pickgene Version: 1.76.0 Command: /home/biocbuild/bbs-3.19-bioc/R/bin/R CMD check --install=check:pickgene.install-out.txt --library=/home/biocbuild/bbs-3.19-bioc/R/site-library --timings pickgene_1.76.0.tar.gz StartedAt: 2024-10-17 03:45:55 -0400 (Thu, 17 Oct 2024) EndedAt: 2024-10-17 03:46:17 -0400 (Thu, 17 Oct 2024) EllapsedTime: 22.0 seconds RetCode: 0 Status: WARNINGS CheckDir: pickgene.Rcheck Warnings: 1