Package: pickgene Version: 1.76.0 Command: rm -rf pickgene.buildbin-libdir && mkdir pickgene.buildbin-libdir && /Users/biocbuild/BBS/utils/build-universal.sh pickgene_1.76.0.tar.gz /Library/Frameworks/R.framework/Resources/bin/R pickgene.buildbin-libdir StartedAt: 2024-06-10 00:32:12 -0400 (Mon, 10 Jun 2024) EndedAt: 2024-06-10 00:32:18 -0400 (Mon, 10 Jun 2024) EllapsedTime: 5.8 seconds RetCode: 0 Status: OK PackageFile: pickgene_1.76.0.tgz PackageFileSize: 398.6 KiB