Package: pickgene Version: 1.76.0 Command: /Library/Frameworks/R.framework/Resources/bin/R CMD build --keep-empty-dirs --no-resave-data pickgene StartedAt: 2024-06-10 02:34:37 -0400 (Mon, 10 Jun 2024) EndedAt: 2024-06-10 02:34:50 -0400 (Mon, 10 Jun 2024) EllapsedTime: 12.2 seconds RetCode: 0 Status: OK PackageFile: pickgene_1.76.0.tar.gz PackageFileSize: 304.9 KiB