Package: piano Version: 2.20.0 Command: E:\biocbuild\bbs-3.19-bioc\R\bin\R.exe CMD INSTALL piano StartedAt: 2024-10-16 16:56:06 -0400 (Wed, 16 Oct 2024) EndedAt: 2024-10-16 16:56:30 -0400 (Wed, 16 Oct 2024) EllapsedTime: 24.4 seconds RetCode: 0 Status: OK