Package: piano Version: 2.20.0 Command: rm -rf piano.buildbin-libdir && mkdir piano.buildbin-libdir && E:\biocbuild\bbs-3.19-bioc\R\bin\R.exe CMD INSTALL --build --library=piano.buildbin-libdir piano_2.20.0.tar.gz StartedAt: 2024-10-17 08:21:06 -0400 (Thu, 17 Oct 2024) EndedAt: 2024-10-17 08:21:30 -0400 (Thu, 17 Oct 2024) EllapsedTime: 24.5 seconds RetCode: 0 Status: OK PackageFile: piano_2.20.0.zip PackageFileSize: 1.636 MiB