Package: piano Version: 2.20.0 Command: chmod a+r piano -R && F:\biocbuild\bbs-3.19-bioc\R\bin\R.exe CMD build --keep-empty-dirs --no-resave-data piano StartedAt: 2024-06-26 20:59:51 -0400 (Wed, 26 Jun 2024) EndedAt: 2024-06-26 21:00:55 -0400 (Wed, 26 Jun 2024) EllapsedTime: 63.8 seconds RetCode: 0 Status: OK PackageFile: piano_2.20.0.tar.gz PackageFileSize: 1.534 MiB