Package: piano Version: 2.20.0 Command: /Library/Frameworks/R.framework/Resources/bin/R CMD build --keep-empty-dirs --no-resave-data piano StartedAt: 2024-10-16 22:06:30 -0400 (Wed, 16 Oct 2024) EndedAt: 2024-10-16 22:08:58 -0400 (Wed, 16 Oct 2024) EllapsedTime: 148.4 seconds RetCode: 0 Status: OK PackageFile: piano_2.20.0.tar.gz PackageFileSize: 1.542 MiB