Package: piano Version: 2.20.0 Command: rm -rf piano.buildbin-libdir && mkdir piano.buildbin-libdir && /Users/biocbuild/BBS/utils/build-universal.sh piano_2.20.0.tar.gz /Library/Frameworks/R.framework/Resources/bin/R piano.buildbin-libdir StartedAt: 2024-10-17 16:50:32 -0400 (Thu, 17 Oct 2024) EndedAt: 2024-10-17 16:51:15 -0400 (Thu, 17 Oct 2024) EllapsedTime: 43.0 seconds RetCode: 0 Status: OK PackageFile: piano_2.20.0.tgz PackageFileSize: 1.641 MiB