Package: piano Version: 2.20.0 Command: _R_CHECK_FORCE_SUGGESTS_=0 /Library/Frameworks/R.framework/Resources/bin/R CMD check --install=check:piano.install-out.txt --library=/Library/Frameworks/R.framework/Resources/library --no-vignettes --timings piano_2.20.0.tar.gz StartedAt: 2024-06-09 22:13:38 -0400 (Sun, 09 Jun 2024) EndedAt: 2024-06-09 22:15:57 -0400 (Sun, 09 Jun 2024) EllapsedTime: 139.0 seconds RetCode: 0 Status: OK CheckDir: piano.Rcheck Warnings: 0