Package: piano Version: 2.20.0 Command: rm -rf piano.buildbin-libdir && mkdir piano.buildbin-libdir && /Users/biocbuild/BBS/utils/build-universal.sh piano_2.20.0.tar.gz /Library/Frameworks/R.framework/Resources/bin/R piano.buildbin-libdir StartedAt: 2024-06-10 00:32:11 -0400 (Mon, 10 Jun 2024) EndedAt: 2024-06-10 00:32:33 -0400 (Mon, 10 Jun 2024) EllapsedTime: 22.8 seconds RetCode: 0 Status: OK PackageFile: piano_2.20.0.tgz PackageFileSize: 1.642 MiB