Package: piano Version: 2.20.0 Command: /home/biocbuild/R/R-beta-2024-04-15_r86425/bin/R CMD build --keep-empty-dirs --no-resave-data piano StartedAt: 2024-05-09 02:31:00 -0000 (Thu, 09 May 2024) EndedAt: 2024-05-09 02:31:51 -0000 (Thu, 09 May 2024) EllapsedTime: 51.1 seconds RetCode: 0 Status: OK PackageFile: piano_2.20.0.tar.gz PackageFileSize: 1.574 MiB