Package: phyloseq Version: 1.48.0 Maintainer: Paul J. McMurdie MaintainerEmail: joey711 at gmail.com git_url: https://git.bioconductor.org/packages/phyloseq git_branch: RELEASE_3_19 git_last_commit: e7cb934 git_last_commit_date: 2024-04-30 10:26:52 -0400 (Tue, 30 Apr 2024)