Package: phosphonormalizer Version: 1.28.0 Command: E:\biocbuild\bbs-3.19-bioc\R\bin\R.exe CMD INSTALL phosphonormalizer StartedAt: 2024-10-16 16:02:46 -0400 (Wed, 16 Oct 2024) EndedAt: 2024-10-16 16:03:22 -0400 (Wed, 16 Oct 2024) EllapsedTime: 36.3 seconds RetCode: 0 Status: OK