Package: phosphonormalizer Version: 1.28.0 Command: chmod a+r phosphonormalizer -R && E:\biocbuild\bbs-3.19-bioc\R\bin\R.exe CMD build --keep-empty-dirs --no-resave-data phosphonormalizer StartedAt: 2024-10-16 21:06:44 -0400 (Wed, 16 Oct 2024) EndedAt: 2024-10-16 21:06:58 -0400 (Wed, 16 Oct 2024) EllapsedTime: 14.3 seconds RetCode: 0 Status: OK PackageFile: phosphonormalizer_1.28.0.tar.gz PackageFileSize: 2.586 MiB