Package: phosphonormalizer Version: 1.28.0 Command: /Library/Frameworks/R.framework/Resources/bin/R CMD build --keep-empty-dirs --no-resave-data phosphonormalizer StartedAt: 2024-10-16 22:05:15 -0400 (Wed, 16 Oct 2024) EndedAt: 2024-10-16 22:05:44 -0400 (Wed, 16 Oct 2024) EllapsedTime: 28.6 seconds RetCode: 0 Status: OK PackageFile: phosphonormalizer_1.28.0.tar.gz PackageFileSize: 2.7 MiB