Package: phosphonormalizer Version: 1.28.0 Maintainer: Sohrab Saraei MaintainerEmail: sohrab.saraei at blueprintgenetics.com git_url: https://git.bioconductor.org/packages/phosphonormalizer git_branch: RELEASE_3_19 git_last_commit: 676d839 git_last_commit_date: 2024-04-30 10:55:09 -0400 (Tue, 30 Apr 2024)