Package: philr Version: 1.30.0 Command: rm -rf philr.buildbin-libdir && mkdir philr.buildbin-libdir && E:\biocbuild\bbs-3.19-bioc\R\bin\R.exe CMD INSTALL --build --library=philr.buildbin-libdir philr_1.30.0.tar.gz StartedAt: 2024-10-17 08:20:49 -0400 (Thu, 17 Oct 2024) EndedAt: 2024-10-17 08:21:07 -0400 (Thu, 17 Oct 2024) EllapsedTime: 17.6 seconds RetCode: 0 Status: OK PackageFile: philr_1.30.0.zip PackageFileSize: 384.5 KiB