Package: philr Version: 1.30.0 Command: /Library/Frameworks/R.framework/Resources/bin/R CMD build --keep-empty-dirs --no-resave-data philr StartedAt: 2024-10-16 22:04:57 -0400 (Wed, 16 Oct 2024) EndedAt: 2024-10-16 22:06:35 -0400 (Wed, 16 Oct 2024) EllapsedTime: 98.7 seconds RetCode: 0 Status: OK PackageFile: philr_1.30.0.tar.gz PackageFileSize: 520.3 KiB