Package: philr Version: 1.30.0 Command: rm -rf philr.buildbin-libdir && mkdir philr.buildbin-libdir && /Users/biocbuild/BBS/utils/build-universal.sh philr_1.30.0.tar.gz /Library/Frameworks/R.framework/Resources/bin/R philr.buildbin-libdir StartedAt: 2024-10-17 16:50:12 -0400 (Thu, 17 Oct 2024) EndedAt: 2024-10-17 16:50:37 -0400 (Thu, 17 Oct 2024) EllapsedTime: 25.6 seconds RetCode: 0 Status: OK PackageFile: philr_1.30.0.tgz PackageFileSize: 575 KiB